BEGIN:VCALENDAR
VERSION:2.0
PRODID:-//Fort Edward Free Library - ECPv6.15.20//NONSGML v1.0//EN
CALSCALE:GREGORIAN
METHOD:PUBLISH
X-ORIGINAL-URL:https://fortedwardlibrary.sals.edu
X-WR-CALDESC:Events for Fort Edward Free Library
REFRESH-INTERVAL;VALUE=DURATION:PT1H
X-Robots-Tag:noindex
X-PUBLISHED-TTL:PT1H
BEGIN:VTIMEZONE
TZID:America/New_York
BEGIN:DAYLIGHT
TZOFFSETFROM:-0500
TZOFFSETTO:-0400
TZNAME:EDT
DTSTART:20230312T070000
END:DAYLIGHT
BEGIN:STANDARD
TZOFFSETFROM:-0400
TZOFFSETTO:-0500
TZNAME:EST
DTSTART:20231105T060000
END:STANDARD
BEGIN:DAYLIGHT
TZOFFSETFROM:-0500
TZOFFSETTO:-0400
TZNAME:EDT
DTSTART:20240310T070000
END:DAYLIGHT
BEGIN:STANDARD
TZOFFSETFROM:-0400
TZOFFSETTO:-0500
TZNAME:EST
DTSTART:20241103T060000
END:STANDARD
BEGIN:DAYLIGHT
TZOFFSETFROM:-0500
TZOFFSETTO:-0400
TZNAME:EDT
DTSTART:20250309T070000
END:DAYLIGHT
BEGIN:STANDARD
TZOFFSETFROM:-0400
TZOFFSETTO:-0500
TZNAME:EST
DTSTART:20251102T060000
END:STANDARD
END:VTIMEZONE
BEGIN:VEVENT
DTSTART;VALUE=DATE:20240704
DTEND;VALUE=DATE:20240705
DTSTAMP:20260419T174813
CREATED:20240701T203817Z
LAST-MODIFIED:20240701T203817Z
UID:2457-1720051200-1720137599@fortedwardlibrary.sals.edu
SUMMARY:The library is closed on Thursday July 4th in remembrance of Independence Day
DESCRIPTION:Regular hours will resume on Friday July 5th from 9: 15 am – 1:30 pm.
URL:https://fortedwardlibrary.sals.edu/event/the-library-is-closed-on-thursday-july-4th-in-remembrance-of-independence-day/
LOCATION:Fort Edward Free Library\, 23 East Street\, Fort Edward\, NY\, 12828\, United States
ORGANIZER;CN="Vicki Plude":MAILTO:vplude@sals.edu
END:VEVENT
BEGIN:VEVENT
DTSTART;TZID=America/New_York:20240708T180000
DTEND;TZID=America/New_York:20240708T190000
DTSTAMP:20260419T174813
CREATED:20240620T163918Z
LAST-MODIFIED:20240620T171339Z
UID:2431-1720461600-1720465200@fortedwardlibrary.sals.edu
SUMMARY:Birds of Prey with Trish Marki Monday July 8th at 6:00 pm
DESCRIPTION:Trish Marki will present a program bringing with her different kinds of raptors\, eagles\, hawks\, owls and falcons. All these birds are cared for by a rescue specialist. You will see these birds up close and learn about their habitat and environment. \nThis program is free and open to those of all abilities. Please bring your own lawn chairs for seating as this program will be held outside. \n  \n 
URL:https://fortedwardlibrary.sals.edu/event/birds-of-prey-with-trish-marki-monday-july-8th-at-600-pm/
LOCATION:Fort Edward Free Library\, 23 East Street\, Fort Edward\, NY\, 12828\, United States
ATTACH;FMTTYPE=image/jpeg:https://fortedwardlibrary.sals.edu/wp-content/uploads/2024/06/Birds-of-Prey-1-1.jpg
ORGANIZER;CN="Vicki Plude":MAILTO:vplude@sals.edu
END:VEVENT
BEGIN:VEVENT
DTSTART;TZID=America/New_York:20240722T160000
DTEND;TZID=America/New_York:20240722T193000
DTSTAMP:20260419T174813
CREATED:20240701T203243Z
LAST-MODIFIED:20240701T203556Z
UID:2451-1721664000-1721676600@fortedwardlibrary.sals.edu
SUMMARY:Monday July 22 4:00 pm - 7:30 pm Washington County Draft Horses and Wagon Rides along with Assemblywoman Carrie Woerner at the Fort Edward Free Library
DESCRIPTION:On Monday July 22\, 2024 from 4:00 pm – 7:30 pm the Washington County Draft Horse Association will be at the library with these larger than life horses along with having an opportunity to ride on the back of a wagon while listening to a few stories about horses and area rescue sites for horses.   Due to this being an adventure for the children\, we are limiting adults to that of one per family to ride along on the wagon. \nThe library is also very excited to have Assemblywoman Carrie Woerner ride along with you on a wagon\, read a story\, and tell you about her exciting work that she does!  She will be at this event from 6:00 pm – 7:30 pm.  Please call ahead to register your child or children at 518-747-6743 for this program. \nA group photo will be taken after each wagon ride and everyone in the photos will receive one 4×6 photo of their own to keep.  Photos will be available for pickup in about one week following the program. \nRain date will be for Tuesday July 23\, 2024 at the same time.
URL:https://fortedwardlibrary.sals.edu/event/washington-county-draft-horses-and-wagon-rides-along-with-assemblywoman-carrie-woerner-at-the-fort-edward-free-library/
LOCATION:Fort Edward Free Library\, 23 East Street\, Fort Edward\, NY\, 12828\, United States
ATTACH;FMTTYPE=image/jpeg:https://fortedwardlibrary.sals.edu/wp-content/uploads/2024/07/big-draft-horse.jpg
ORGANIZER;CN="Vicki Plude":MAILTO:vplude@sals.edu
END:VEVENT
BEGIN:VEVENT
DTSTART;TZID=America/New_York:20240729T180000
DTEND;TZID=America/New_York:20240729T193000
DTSTAMP:20260419T174813
CREATED:20240701T211607Z
LAST-MODIFIED:20240729T153310Z
UID:2459-1722276000-1722281400@fortedwardlibrary.sals.edu
SUMMARY:Monday July 29th @ 6:00 pm  SmoresReading and Dancing and possibly Smokey the Bear
DESCRIPTION:We will be listening to a few fun adventurous stories about Smokey the Bear and hoping Smokey will be here to tell us all about them.  If for some reason Smokey cannot attend\, kids will listen to other fun stories being read while making their own Smores over an enclosed fire-pit.  Limiting 2 smores per child.   Any remaining time thereafter\, we will let the kids dance to some music.  A cardboard cutout of Smokey the Bear is here for the kids to have their pics with as the Encon Officer that comes in costume as Smokey wasn’t able to make it. \nRain date will be on Tuesday July 30th @ 6:00 pm Crossed Sticks and Marshmallows
URL:https://fortedwardlibrary.sals.edu/event/monday-july-29th-600-pm-smoresreading-with-possibly-smokey-the-bear/
LOCATION:Fort Edward Free Library\, 23 East Street\, Fort Edward\, NY\, 12828\, United States
ATTACH;FMTTYPE=image/jpeg:https://fortedwardlibrary.sals.edu/wp-content/uploads/2024/07/smokey-the-bear-1.jpg
ORGANIZER;CN="Vicki Plude":MAILTO:vplude@sals.edu
END:VEVENT
END:VCALENDAR