BEGIN:VCALENDAR
VERSION:2.0
PRODID:-//Fort Edward Free Library - ECPv6.15.20//NONSGML v1.0//EN
CALSCALE:GREGORIAN
METHOD:PUBLISH
X-WR-CALNAME:Fort Edward Free Library
X-ORIGINAL-URL:https://fortedwardlibrary.sals.edu
X-WR-CALDESC:Events for Fort Edward Free Library
REFRESH-INTERVAL;VALUE=DURATION:PT1H
X-Robots-Tag:noindex
X-PUBLISHED-TTL:PT1H
BEGIN:VTIMEZONE
TZID:America/New_York
BEGIN:DAYLIGHT
TZOFFSETFROM:-0500
TZOFFSETTO:-0400
TZNAME:EDT
DTSTART:20220313T070000
END:DAYLIGHT
BEGIN:STANDARD
TZOFFSETFROM:-0400
TZOFFSETTO:-0500
TZNAME:EST
DTSTART:20221106T060000
END:STANDARD
BEGIN:DAYLIGHT
TZOFFSETFROM:-0500
TZOFFSETTO:-0400
TZNAME:EDT
DTSTART:20230312T070000
END:DAYLIGHT
BEGIN:STANDARD
TZOFFSETFROM:-0400
TZOFFSETTO:-0500
TZNAME:EST
DTSTART:20231105T060000
END:STANDARD
BEGIN:DAYLIGHT
TZOFFSETFROM:-0500
TZOFFSETTO:-0400
TZNAME:EDT
DTSTART:20240310T070000
END:DAYLIGHT
BEGIN:STANDARD
TZOFFSETFROM:-0400
TZOFFSETTO:-0500
TZNAME:EST
DTSTART:20241103T060000
END:STANDARD
END:VTIMEZONE
BEGIN:VEVENT
DTSTART;TZID=America/New_York:20231011T190000
DTEND;TZID=America/New_York:20231011T203000
DTSTAMP:20260419T174813
CREATED:20231004T211321Z
LAST-MODIFIED:20231010T220025Z
UID:1993-1697050800-1697056200@fortedwardlibrary.sals.edu
SUMMARY:Library Board of Trustees Meeting
DESCRIPTION:The Fort Edward Free Library Board of Trustees will meet on Wednesday October 11\, 2023 @ 7:00 pm.  This meeting will be an in-person meeting and the link to join the meeting online will be posted Wednesday morning 10/11.   Sara Dallas\, Director of SALS\, will be attending virtually on this night. \nHere is the link to attend online.  https://meet.google.com/pdm-cvci-mqp
URL:https://fortedwardlibrary.sals.edu/event/library-board-of-trustees-meeting/
LOCATION:Fort Edward Free Library\, 23 East Street\, Fort Edward\, NY\, 12828\, United States
ATTACH;FMTTYPE=image/jpeg:https://fortedwardlibrary.sals.edu/wp-content/uploads/2023/10/images.jpg
ORGANIZER;CN="Vicki Plude":MAILTO:vplude@sals.edu
END:VEVENT
BEGIN:VEVENT
DTSTART;TZID=America/New_York:20231013T100000
DTEND;TZID=America/New_York:20231013T160000
DTSTAMP:20260419T174813
CREATED:20231012T214500Z
LAST-MODIFIED:20231012T214920Z
UID:2004-1697191200-1697212800@fortedwardlibrary.sals.edu
SUMMARY:ONLY Reserved items waiting to be picked up can be done on Friday 10/13.  All other library services are not available again until Monday morning October 16\, 2023.
DESCRIPTION:Library hours of service on Friday October 13th is available only for those waiting to pick up their reserved items.  All other library services are suspended during our book sale on Friday\, Saturday\, and Sunday.  (services are borrowing any materials\, copying\, faxing\, etc. ).
URL:https://fortedwardlibrary.sals.edu/event/only-reserved-items-waiting-to-be-picked-up-can-be-done-on-friday-10-13-all-other-library-services-are-suspended-while-our-book-sale-is-in-progress-on-oct-13-14-and-15th-library-services-on-fr/
LOCATION:Fort Edward Free Library\, 23 East Street\, Fort Edward\, NY\, 12828\, United States
ORGANIZER;CN="Vicki Plude":MAILTO:vplude@sals.edu
END:VEVENT
BEGIN:VEVENT
DTSTART;TZID=America/New_York:20231013T100000
DTEND;TZID=America/New_York:20231017T160000
DTSTAMP:20260419T174813
CREATED:20231004T205850Z
LAST-MODIFIED:20231004T211548Z
UID:1987-1697191200-1697558400@fortedwardlibrary.sals.edu
SUMMARY:Spooktacular Book Sale Begins Friday October 13\, 2023 @ 10:00 am.
DESCRIPTION:doc00444920231002145610 (1)  \nGo to above link\, click on it and you will have the flyer for our upcoming book sale of dates and times. \nPuzzles and DVD’s are $1 each and bags size of 12 x 12 (you must bring your own) is $5 to fill a bag.  Some book titles may be priced a bit higher due to how old the book is.   \nNot mentioned in the flyer is that we will be accepting CASH only!  No debit/credit cards or checks.  
URL:https://fortedwardlibrary.sals.edu/event/spooktacular-book-sale/
LOCATION:Fort Edward Free Library\, 23 East Street\, Fort Edward\, NY\, 12828\, United States
ATTACH;FMTTYPE=image/jpeg:https://fortedwardlibrary.sals.edu/wp-content/uploads/2023/10/e63a982f61459875d364dc0b9338ee2b.jpg
ORGANIZER;CN="Vicki Plude":MAILTO:vplude@sals.edu
END:VEVENT
BEGIN:VEVENT
DTSTART;TZID=America/New_York:20231027T183000
DTEND;TZID=America/New_York:20231027T203000
DTSTAMP:20260419T174813
CREATED:20231023T141210Z
LAST-MODIFIED:20231025T142659Z
UID:2010-1698431400-1698438600@fortedwardlibrary.sals.edu
SUMMARY:Cole Circus Tickets available for sale at the FE Free Library
DESCRIPTION:  \nRESCHDULED DATE FOR THE CIRCUS IS NOW SATURDAY NOVEMBER 11TH AT 2:00 PM in the FE School Gym..   Due to Section 11 Girls Volleyball\, the original circus date interfered with the Fort Edward  GIRLS Varsity Volleyball SECTIONAL HOME GAME.  ( Please go and show your FE School spirit in cheering on our Volleyball Team Friday October 27th at 5:00 pm).  \nIMPORTANT….DATE CHANGE OF Billy Martin’s Cole All Star Circus is no longer Friday October 27th.   The library has four tickets still available for sale and tickets purchased in advance are $15 for adults.  Tickets at the door are $20 for adults. \nCoupons read:  admits one child 12 years or younger with PAID ADULT.   Limit 2 Free Children Per Adult – Subject to Seating Availability \n 
URL:https://fortedwardlibrary.sals.edu/event/cole-circus-tickets-available-for-sale-at-the-fe-free-library/
ATTACH;FMTTYPE=image/jpeg:https://fortedwardlibrary.sals.edu/wp-content/uploads/2023/10/image-5-circus-scaled.jpg
END:VEVENT
END:VCALENDAR