BEGIN:VCALENDAR
VERSION:2.0
PRODID:-//Fort Edward Free Library - ECPv6.15.20//NONSGML v1.0//EN
CALSCALE:GREGORIAN
METHOD:PUBLISH
X-ORIGINAL-URL:https://fortedwardlibrary.sals.edu
X-WR-CALDESC:Events for Fort Edward Free Library
REFRESH-INTERVAL;VALUE=DURATION:PT1H
X-Robots-Tag:noindex
X-PUBLISHED-TTL:PT1H
BEGIN:VTIMEZONE
TZID:America/New_York
BEGIN:DAYLIGHT
TZOFFSETFROM:-0500
TZOFFSETTO:-0400
TZNAME:EDT
DTSTART:20220313T070000
END:DAYLIGHT
BEGIN:STANDARD
TZOFFSETFROM:-0400
TZOFFSETTO:-0500
TZNAME:EST
DTSTART:20221106T060000
END:STANDARD
BEGIN:DAYLIGHT
TZOFFSETFROM:-0500
TZOFFSETTO:-0400
TZNAME:EDT
DTSTART:20230312T070000
END:DAYLIGHT
BEGIN:STANDARD
TZOFFSETFROM:-0400
TZOFFSETTO:-0500
TZNAME:EST
DTSTART:20231105T060000
END:STANDARD
BEGIN:DAYLIGHT
TZOFFSETFROM:-0500
TZOFFSETTO:-0400
TZNAME:EDT
DTSTART:20240310T070000
END:DAYLIGHT
BEGIN:STANDARD
TZOFFSETFROM:-0400
TZOFFSETTO:-0500
TZNAME:EST
DTSTART:20241103T060000
END:STANDARD
END:VTIMEZONE
BEGIN:VEVENT
DTSTART;TZID=America/New_York:20230710T180000
DTEND;TZID=America/New_York:20230710T190000
DTSTAMP:20260420T174201
CREATED:20230705T211106Z
LAST-MODIFIED:20230705T212533Z
UID:1797-1689012000-1689015600@fortedwardlibrary.sals.edu
SUMMARY:Rainstick Sensory Music
DESCRIPTION:Monday July 10th @ 6:00 pm the library will be offering this FREE craft for toddlers\, kids\, tweens and teens.  We will be making our own Rainstick Sensory Music from plastic bottles\, cut up straws\, and rice.    This enjoyable craft gives off the sound of soothing rain while making you feel relaxed.   Children under the age of 6 must be accompanied by an adult.  Pre-registration is suggested to have enough supplies for everyone to make this Rainstick. 
URL:https://fortedwardlibrary.sals.edu/event/rainstick-sensory-music/
LOCATION:Fort Edward Free Library\, 23 East Street\, Fort Edward\, NY\, 12828\, United States
ATTACH;FMTTYPE=image/webp:https://fortedwardlibrary.sals.edu/wp-content/uploads/2023/07/Rainstick-Sensory-Bottle-1.webp
ORGANIZER;CN="Vicki Plude":MAILTO:vplude@sals.edu
END:VEVENT
BEGIN:VEVENT
DTSTART;TZID=America/New_York:20230713T160000
DTEND;TZID=America/New_York:20230713T183000
DTSTAMP:20260420T174201
CREATED:20230705T212356Z
LAST-MODIFIED:20230705T212452Z
UID:1801-1689264000-1689273000@fortedwardlibrary.sals.edu
SUMMARY:Squirt Gun Water Painting
DESCRIPTION:Thursday July 13 from 4 – 7 pm the library will be offering this Free Program for children at the Canal Street Marketplace.   Kids will fill up squirt guns that are filled with drops of food coloring and water to create their very own water color painting.   Due to using food coloring\, clothes and hands may get stained and it is suggested that good clothing not be worn.  Each painting will need to hand dry for about one half hour before taking their painting home. 
URL:https://fortedwardlibrary.sals.edu/event/squirt-gun-water-painting/
ATTACH;FMTTYPE=image/jpeg:https://fortedwardlibrary.sals.edu/wp-content/uploads/2023/07/Squirt-gun-water-painting.jpg
END:VEVENT
END:VCALENDAR