BEGIN:VCALENDAR
VERSION:2.0
PRODID:-//Fort Edward Free Library - ECPv6.15.20//NONSGML v1.0//EN
CALSCALE:GREGORIAN
METHOD:PUBLISH
X-WR-CALNAME:Fort Edward Free Library
X-ORIGINAL-URL:https://fortedwardlibrary.sals.edu
X-WR-CALDESC:Events for Fort Edward Free Library
REFRESH-INTERVAL;VALUE=DURATION:PT1H
X-Robots-Tag:noindex
X-PUBLISHED-TTL:PT1H
BEGIN:VTIMEZONE
TZID:America/New_York
BEGIN:DAYLIGHT
TZOFFSETFROM:-0500
TZOFFSETTO:-0400
TZNAME:EDT
DTSTART:20220313T070000
END:DAYLIGHT
BEGIN:STANDARD
TZOFFSETFROM:-0400
TZOFFSETTO:-0500
TZNAME:EST
DTSTART:20221106T060000
END:STANDARD
BEGIN:DAYLIGHT
TZOFFSETFROM:-0500
TZOFFSETTO:-0400
TZNAME:EDT
DTSTART:20230312T070000
END:DAYLIGHT
BEGIN:STANDARD
TZOFFSETFROM:-0400
TZOFFSETTO:-0500
TZNAME:EST
DTSTART:20231105T060000
END:STANDARD
BEGIN:DAYLIGHT
TZOFFSETFROM:-0500
TZOFFSETTO:-0400
TZNAME:EDT
DTSTART:20240310T070000
END:DAYLIGHT
BEGIN:STANDARD
TZOFFSETFROM:-0400
TZOFFSETTO:-0500
TZNAME:EST
DTSTART:20241103T060000
END:STANDARD
END:VTIMEZONE
BEGIN:VEVENT
DTSTART;TZID=America/New_York:20230510T190000
DTEND;TZID=America/New_York:20230510T200000
DTSTAMP:20260420T174203
CREATED:20230503T171217Z
LAST-MODIFIED:20230509T142831Z
UID:1735-1683745200-1683748800@fortedwardlibrary.sals.edu
SUMMARY:May Library Board of Trustees Meeting
DESCRIPTION:The Fort Edward Free Library Board of Trustees regularly scheduled meeting for May of 2023 will be held on Wednesday May 10 @ 7:00 pm. \nHere is the link to join the meeting online. https://meet.google.com/xjb-oime-yqz \nAgenda: \n\nAttendance\nWelcome\nFinancial Report\nLibrarian’s Report\nCorrespondence\nUnfinished Business\nNew Business\nMotion to Adjourn\n\n 
URL:https://fortedwardlibrary.sals.edu/event/may-library-board-of-trustees-meeting/
LOCATION:Fort Edward Free Library\, 23 East Street\, Fort Edward\, NY\, 12828\, United States
ATTACH;FMTTYPE=image/jpeg:https://fortedwardlibrary.sals.edu/wp-content/uploads/2023/05/images.jpg
ORGANIZER;CN="Vicki Plude":MAILTO:vplude@sals.edu
END:VEVENT
BEGIN:VEVENT
DTSTART;TZID=America/New_York:20230516T043000
DTEND;TZID=America/New_York:20230516T183000
DTSTAMP:20260420T174204
CREATED:20230515T160407Z
LAST-MODIFIED:20230515T160603Z
UID:1748-1684211400-1684261800@fortedwardlibrary.sals.edu
SUMMARY:Fort Edward Teacher's Association....FREE ... ICE CREAM  SOCIAL Tuesday May 16\, 2023 4:30-6:30 pm in the Cafeteria
DESCRIPTION:
URL:https://fortedwardlibrary.sals.edu/event/fort-edward-teachers-association-freeschool-ice-cream-social-tuesday-may-16-2023-430-630-pm-in-the-cafetaria/
ATTACH;FMTTYPE=image/jpeg:https://fortedwardlibrary.sals.edu/wp-content/uploads/2023/05/Ice-Cream-social-1.jpg
END:VEVENT
END:VCALENDAR