BEGIN:VCALENDAR
VERSION:2.0
PRODID:-//Fort Edward Free Library - ECPv6.15.20//NONSGML v1.0//EN
CALSCALE:GREGORIAN
METHOD:PUBLISH
X-ORIGINAL-URL:https://fortedwardlibrary.sals.edu
X-WR-CALDESC:Events for Fort Edward Free Library
REFRESH-INTERVAL;VALUE=DURATION:PT1H
X-Robots-Tag:noindex
X-PUBLISHED-TTL:PT1H
BEGIN:VTIMEZONE
TZID:America/New_York
BEGIN:DAYLIGHT
TZOFFSETFROM:-0500
TZOFFSETTO:-0400
TZNAME:EDT
DTSTART:20220313T070000
END:DAYLIGHT
BEGIN:STANDARD
TZOFFSETFROM:-0400
TZOFFSETTO:-0500
TZNAME:EST
DTSTART:20221106T060000
END:STANDARD
BEGIN:DAYLIGHT
TZOFFSETFROM:-0500
TZOFFSETTO:-0400
TZNAME:EDT
DTSTART:20230312T070000
END:DAYLIGHT
BEGIN:STANDARD
TZOFFSETFROM:-0400
TZOFFSETTO:-0500
TZNAME:EST
DTSTART:20231105T060000
END:STANDARD
BEGIN:DAYLIGHT
TZOFFSETFROM:-0500
TZOFFSETTO:-0400
TZNAME:EDT
DTSTART:20240310T070000
END:DAYLIGHT
BEGIN:STANDARD
TZOFFSETFROM:-0400
TZOFFSETTO:-0500
TZNAME:EST
DTSTART:20241103T060000
END:STANDARD
END:VTIMEZONE
BEGIN:VEVENT
DTSTART;TZID=America/New_York:20230325T100000
DTEND;TZID=America/New_York:20230325T113000
DTSTAMP:20260421T001519
CREATED:20230316T165701Z
LAST-MODIFIED:20230322T201318Z
UID:1692-1679738400-1679743800@fortedwardlibrary.sals.edu
SUMMARY:Spring Craft Saturday March 25 @ 10:00 am
DESCRIPTION:Hey Kids\, we are stepping into Spring making this fun Tulip art from plastic forks.  Age is recommended for two and up and an adult must accompany children under the age of seven.  We will offer two classes.   The first class begins at 10:00 am with a maximum of ten participants.  The second class begins at 10:45 am with a maximum of ten participants.  Tulip Art from Plastic Forks  Please contact the library at 518-747-6743 if you would like to pre-register.
URL:https://fortedwardlibrary.sals.edu/event/spring-craft-saturday-march-25-1000-am/
LOCATION:Fort Edward Free Library\, 23 East Street\, Fort Edward\, NY\, 12828\, United States
ATTACH;FMTTYPE=image/jpeg:https://fortedwardlibrary.sals.edu/wp-content/uploads/2023/03/tulip-art-1.jpg
ORGANIZER;CN="Vicki Plude":MAILTO:vplude@sals.edu
END:VEVENT
BEGIN:VEVENT
DTSTART;TZID=America/New_York:20230325T180000
DTEND;TZID=America/New_York:20230325T203000
DTSTAMP:20260421T001519
CREATED:20230317T145003Z
LAST-MODIFIED:20230317T145003Z
UID:1704-1679767200-1679776200@fortedwardlibrary.sals.edu
SUMMARY:" A Man Called Otto" Movie Night
DESCRIPTION:Saturday March 25 @ 6:00 pm the library will be showing the movie ” A Man Called Otto” starring Tom Hanks. This is the story of Otto Anderson (Tom Hanks)\, a grumpy widower who is very set in his ways. When a lively young family moves in next door\, he meets his match in the quick-witted and very pregnant Marisol\, leading to an unlikely friendship. The movie is Rated PG-13 and runs for two hours and 6 minutes. Recommended for those 16 years of age and older. Maximum attendance is that of 25 and is on a first come first serve basis unless pre-registered by calling the library at 518-747-6743. * Suggestion to bring your own lawn chair as library metal chairs do not have any arm rests. \nDoors will open at 5:30 pm. This program is Free and open to those of all abilities.
URL:https://fortedwardlibrary.sals.edu/event/a-man-called-otto-movie-night/
ORGANIZER;CN="Vicki Plude":MAILTO:vplude@sals.edu
END:VEVENT
BEGIN:VEVENT
DTSTART;TZID=America/New_York:20230329T180000
DTEND;TZID=America/New_York:20230329T193000
DTSTAMP:20260421T001519
CREATED:20230313T142118Z
LAST-MODIFIED:20230322T200626Z
UID:1663-1680112800-1680118200@fortedwardlibrary.sals.edu
SUMMARY:Learn To Fish Program  Presented by local DEC Officer Stephen Gonyea
DESCRIPTION:Learn how to fish for at our upcoming Program on Wednesday evening March 29th @ 6:00pm.   The presenter for this program is DEC Office Stephen Gonyea.  Kids and adults can learn about casting a rod and catching fish\, fish identification\, fishing equipment and techniques\, angling ethics\, aquatic ecology\,  and more!   All in attendance for this program will have an opportunity to  put their names into a raffle for winning either a Childs fishing pole or an Adult fishing pole.  You must be present to win.    Maximum occupancy for this program is that of 25.   You can pre-register by calling the library at 518-747-6743.  Please speak clearly when leaving your full name and phone number.             
URL:https://fortedwardlibrary.sals.edu/event/learn-to-fish-program-presented-by-local-dec-officer-stephen-gonyea/
LOCATION:Fort Edward Free Library\, 23 East Street\, Fort Edward\, NY\, 12828\, United States
ATTACH;FMTTYPE=image/webp:https://fortedwardlibrary.sals.edu/wp-content/uploads/2023/03/fishing-rod-fish-icon-cartoon-600w-547800721.webp
ORGANIZER;CN="Vicki Plude":MAILTO:vplude@sals.edu
END:VEVENT
END:VCALENDAR